Workbook
Name a: 'New BP Calc Model'!$C$29
Name AH: 'New BP Calc Model'!$C$19
Name b: 'New BP Calc Model'!$C$30
Name cc: 'New BP Calc Model'!$C$31
Name cvair: 'New BP Calc Model'!$C$8
Name cvBPcp: 'New BP Calc Model'!$C$7
Name d: 'New BP Calc Model'!$C$32
Name deltaHBP: 'New BP Calc Model'!$C$9
Name Dminor: 'New BP Calc Model'!$C$15
Name Dr: 'New BP Calc Model'!$C$13
Name dsholder: 'New BP Calc Model'!$C$23
Name f: 'New BP Calc Model'!$C$33
Name Ffrict: 'New BP Calc Model'!$C$21
Name Fmix: 'New BP Calc Model'!$C$27
Name Fshear: 'New BP Calc Model'!$C$25
Name g: 'New BP Calc Model'!$C$34
Name h: 'New BP Calc Model'!$C$35
Name j: 'New BP Calc Model'!$C$36
Name k: 'New BP Calc Model'!$C$37
Name knc: 'New BP Calc Model'!$C$24
Name Mair: 'New BP Calc Model'!$C$4
Name MBP: 'New BP Calc Model'!$C$5
Name MBPcpgas: 'New BP Calc Model'!$C$3
Name mnc: 'New BP Calc Model'!$C$22
Name mr: 'New BP Calc Model'!$C$20
Name n: 'New BP Calc Model'!$C$38
Name nshear: 'New BP Calc Model'!$C$14
Name Patm: 'New BP Calc Model'!$C$11
Name Pf: 'New BP Calc Model'!$C$18
Name Pmix: 'New BP Calc Model'!$C$28
Name Ru: 'New BP Calc Model'!$C$6
Name SF: 'New BP Calc Model'!$C$17
Name SS: 'New BP Calc Model'!$C$16
Name Tamb: 'New BP Calc Model'!$C$10
Name vnc: 'New BP Calc Model'!$C$26
Name Vpc: 'New BP Calc Model'!$C$12

Sheet Black Powder Calculator
B1: Black Powder Calculator | C1: rev 1.3
B2: Entered values
B3: Rocket name | C3: Test Rocket
B4: Body tube diameter | C4: 3 | D4: in
B5: Parachute tube inner length | C5: 15 | D5: in
B6: Shear screw size | C6: 2-56
B7: Number of screws | C7: 2
B8: Nosecone friction | C8: 2 | D8: lbf
B9: Parachute packing factor | C9: 1
B10: Safety Factor (.4 = 40%) | C10: 0.4
B11: Total rocket mass (including nosecone) | C11: 8 | D11: lb
B12: Nosecone mass | C12: 0.5 | D12: lb
B13: Nosecone sholder length | C13: 3 | D13: in
B14: Calculated Values
B15: Shear screw shear force | C15: =Fshear*0.031 -> 61.797929 | D15: lbf
B16: Black powder quantity | C16: ='New BP Calc Model'!C40 -> 2.0784402 | D16: gm
B17: Force generated by the black powder | C17: =Fmix*0.031 -> 89.3171 | D17: lbf
B18: Pressure generated by the black powder | C18: =Pmix*0.0002158 -> 12.666437 | D18: psi
B19: Ejection velocity of nosecone | C19: =vnc -> 54.812949 | D19: ft/s
B21: The choice of Shear Screw sizes is on the Screw Shear Strength tab. If shear screws are not being used, set the number of screws to 0. In this case, it is just the nosecone friction that is used in the calculation. The amount of black powder indicated by the calculator may be very small in this case. Keep in mind that 18mm model rocket motors come with ~0.5 gm of black powder, so probably a good idea not to use less than that amount. The packing factor is the fraction of the parachute tube taken up by the parachute, chute protector, and shock cord (1 is completely filled, 0 is empty). The quantity of black powder is highly dependent upon the packing factor because the parachute and chute protector absorb much of the energy generated by the black powder, which significantly decreases the amount of pressure generated The safety factor is the amount above the sum of the shear force and friction force to be generated by the black powder. Part of the reason for needing a safety factor is to ensure the large variability in pressure generated by black powder is accounted for. The other reason is to ensure an energetic deployment, as measured by the nosecone ejection velocity. It can take more pressure to get an energetic deployment then it does to shear the shear screws. The greater the mass of the nosecone, the slower the deployment. A deployment velocity between 20 and 50 ft/s is probably fine. If the deployment velocity is too low, then increase the safety factor. A larger safety factor may also be needed when shear screws are not used. Testing has shown that a 0.4 (40%) safety margin works well for typical small to mid-sized high power rockets with shear screws. The nosecone shoulder length is the distance over which the nosecone accelerates to the deployment velocity due to the force generated by the black powder
B23: This calculator assumes the altitude is sea level (14.7 psi). It is not intended to calculate the charge needed for very high altitude flights (~20k and above). This calculator assumes a parachute protector is being used. A piston will generally require less black powder, but that calculation is not yet included in this calculator The calculated quantity of black powder is just a starting recommendation - always ground test with the parachute, recovery blanket, and shock cord in the flight configuration!

Sheet Screw Shear Strength
A1: Screw Shear Strength
A2: Nylon 6/6 Shear Strength (psi) | D2: Min | E2: Max
D3: 9600 | E3: 10500
A4: Screw | B4: Diameters (in) | C4: Areas (sq in) | D4: Shear Strength (lbs)
A5: Size | B5: Minor | C5: Minor | D5: Min | E5: Max
A6: M2 | B6: 0.05942 | C6: =3.14159*(B6/2)^2 -> 0.0027730315 | D6: =D$3*C6 -> 26.621103 | E6: =E$3*C6 -> 29.116831
A7: 2-56 | B7: 0.0641 | C7: =3.14159*(B7/2)^2 -> 0.0032270491 | D7: =D$3*C7 -> 30.979671 | E7: =E$3*C7 -> 33.884016
A8: 4-40 | B8: 0.0813 | C8: =3.14159*(B8/2)^2 -> 0.005191234 | D8: =D$3*C8 -> 49.835846 | E8: =E$3*C8 -> 54.507957
A9: M3 | B9: 0.09396 | C9: =3.14159*(B9/2)^2 -> 0.0069338674 | D9: =D$3*C9 -> 66.565127 | E9: =E$3*C9 -> 72.805607
A10: 6-32 | B10: 0.0997 | C10: =3.14159*(B10/2)^2 -> 0.0078069218 | D10: =D$3*C10 -> 74.94645 | E10: =E$3*C10 -> 81.972679
A12: From: http://www.feretich.com/Rocketry/Resources/shearPins.html

Sheet New BP Calc Model
A1: New BP Calculator Model
A2: Quantity | B2: Variable | C2: Value | D2: USCS Native Units
A3: Molecular weight of black powder gas | B3: MBPcpgas | C3: 0.149 | D3: lb/mol
A4: Molecular wight of air | B4: Mair | C4: 0.0642 | D4: lb/mol
A5: Molecular wight of black powder | B5: MBP | C5: 0.09939 | D5: lb/mol
A6: Universal gas constant | B6: Ru | C6: 197.305 | D6: (lb*ft2)/(s2*K*mol)
A7: Specific heat of black powder combustion products | B7: cvBPcp | C7: 7247 | D7: ft2/(s2*K)
A8: Specific heat of air | B8: cvair | C8: 7730 | D8: ft2/(s2*K)
A9: Delta enthalpy of black powder | B9: deltaHBP | C9: -2245000 | D9: (lb*ft2)/(s2*mol)
A10: Ambient temperature | B10: Tamb | C10: 294.261 | D10: K
A11: Ambient pressure | B11: Patm | C11: 68110 | D11: lb/(ft*s2)
A12: Volume of parachute compartment | B12: Vpc | C12: =PI()*('Black Powder Calculator'!C4/2)^2*'Black Powder Calculator'!C5/12^3 -> 0.061359232 | D12: ft3
A13: Diameter of rocket | B13: Dr | C13: ='Black Powder Calculator'!C4/12 -> 0.25 | D13: ft
A14: Number of shear pins | B14: nshear | C14: ='Black Powder Calculator'!C7 -> 2
A15: Minor diameter of shear pin screw | B15: Dminor | C15: =VLOOKUP('Black Powder Calculator'!C6,'Screw Shear Strength'!A5:E10,2,FALSE)/12 -> 0.0053416667 | D15: ft
A16: Shear strength of nylon | B16: SS | C16: ='Screw Shear Strength'!D3*32.174*12^2 -> 44477338 | D16: lb/(ft*s2)
A17: Safety factor | B17: SF | C17: ='Black Powder Calculator'!C10 -> 0.4
A18: Parachute packing factor | B18: Pf | C18: ='Black Powder Calculator'!C9 -> 1
A19: Parachute absorption factor (high) | B19: AH | C19: =-0.951*2.718^(-4.491*Pf)+0.951 -> 0.94033487
A20: Total Rocket Mass | B20: mr | C20: ='Black Powder Calculator'!C11 -> 8
A21: Nosecone friction | B21: Ffrict | C21: ='Black Powder Calculator'!C8/0.031 -> 64.516129 | D21: lb/(ft*s2)
A22: Nosecone mass | B22: mnc | C22: ='Black Powder Calculator'!C12 -> 0.5 | D22: lb
A23: Nosecone sholder length | B23: dsholder | C23: ='Black Powder Calculator'!C13/12 -> 0.25 | D23: ft
A24: Body to nosecone mass ratio | B24: knc | C24: =(mr-mnc)/mnc -> 15
A25: Shear Screw Shear Force | B25: Fshear | C25: =PI()*(Dminor/2)^2*SS*nshear -> 1993.4816 | D25: ft*lb/s2
A26: Velocity of nosecone | B26: vnc | C26: =(SQRT(knc/(knc+1))+SQRT(1/(knc*(knc+1))))*SQRT(2*(Fmix-Ffrict)*dsholder/mnc) -> 54.812949 | D26: ft/s
A27: Force generated by the black powder | B27: Fmix | C27: =(Fshear+Ffrict)*(1+SF) -> 2881.1968 | D27: lb/(ft*s2)
A28: Pressure generated by black powder | B28: Pmix | C28: =Fmix/(PI()*(Dr/2)^2) -> 58695.259 | D28: lb/(ft*s2)
A29: Variables used in the BP calculation equation below | B29: a | C29: =MBPcpgas -> 0.149 | D29: lb/mol
B30: b | C30: =Patm*Vpc/(Ru*Tamb) -> 0.071981351 | D30: mol
B31: cc | C31: =-(deltaHBP/MBP)*(1-AH) -> 1347703.2 | D31: ft2/s2
B32: d | C32: =cvair*Patm*Vpc*Mair/(Ru*Tamb) -> 35.721897 | D32: lb*ft2/(s2*K)
B33: f | C33: =cvBPcp -> 7247 | D33: ft2/(s2*K)
B34: g | C34: =Tamb -> 294.261 | D34: K
B35: h | C35: =Patm -> 68110 | D35: lb/(ft*s2)
B36: j | C36: =PI()*(Dr/2)^2 -> 0.049087385 | D36: ft2
B37: k | C37: =(PI()*(Dminor/2)^2*SS*nshear+Ffrict)*(1+SF) -> 2881.1968 | D37: lb*ft/s2
B38: n | C38: =Ru/Vpc -> 3215.5716 | D38: lb/(ft*s2*K*mol)
A40: Mass of the black powder | B40: mBP | C40: =(SQRT(((a^2*b^2*f^2-2*a*b*d*f+d^2)*g^2+(2*a^2*b^2*cc*f-2*a*b*cc*d)*g+a^2*b^2*cc^2)*j^2*n^2+(((2*a*d*f-2*a^2*b*f^2)*g+(4*a*cc*d-2*a^2*b*cc*f))*j*k+((2*a*d*f-2*a^2*b*f^2)*g+(4*a*cc*d-2*a^2*b*cc*f))*h*j^2)*n+a^2*f^2*k^2+2*a^2*f^2*h*j*k+a^2*f^2*h^2*j^2)+(a*f*k+a*f*h*j-((a*b*f+d)*g+a*b*cc)*j*n))/(2*j*n*(f*g+cc))*453.592 -> 2.0784402 | D40: gm
A43: All the calculations are done in the native units of the USCS units system - the final mass of black powder is then converted to grams
A44: The numbers in blue are the user inputs and come from the 'Black Powder Calculator' sheet
A45: The numbers in green come form the 'Screw Shear Strength' sheet
A46: The number in red is the model output and is returned to the 'Black Powder Calculator' sheet
A48: See "Using Black Powder for Parachute Deployment" at Speedmotionrockets.com or the NAR Archive for a complete description of this model
